BEGIN:VCALENDAR
VERSION:2.0
PRODID:-//MIFNA - ECPv6.15.20//NONSGML v1.0//EN
CALSCALE:GREGORIAN
METHOD:PUBLISH
X-ORIGINAL-URL:https://mifna.com
X-WR-CALDESC:Events for MIFNA
REFRESH-INTERVAL;VALUE=DURATION:PT1H
X-Robots-Tag:noindex
X-PUBLISHED-TTL:PT1H
BEGIN:VTIMEZONE
TZID:UTC
BEGIN:STANDARD
TZOFFSETFROM:+0000
TZOFFSETTO:+0000
TZNAME:UTC
DTSTART:20220101T000000
END:STANDARD
END:VTIMEZONE
BEGIN:VEVENT
DTSTART;TZID=UTC:20230806T090000
DTEND;TZID=UTC:20230806T110000
DTSTAMP:20260425T185602
CREATED:20230801T010905Z
LAST-MODIFIED:20230801T010905Z
UID:4222-1691312400-1691319600@mifna.com
SUMMARY:MIFNA's 5th Hike/Nature Walk\, Sun\, Aug 6th\, 2023
DESCRIPTION:  \nSalaam members and friends\,Our fifth hike/nature walk is planned for Sunday\, Aug 6th\, at Upper Newport Bay Nature Preserve\, 2301 University Dr.\, Newport Beach\, CA. It is an easy 1.5-mile hike. We plan to start the hike/nature walk at 9 am sharp. An RSVP is greatly appreciated so we won’t leave anybody behind in case some of you were to arrive late.To RSVP or get more information\, please text Sam Hashim at 310-433-8969. Bottled water and light snacks will be provided.We hope to see you there.MIFNA Communications July 31\, 2023
URL:https://mifna.com/event/mifnas-5th-hike-nature-walk-sun-aug-6th-2023/
LOCATION:Upper Newport Bay Nature Preserve\, 2301 University Dr.\, Newport Beach\, CA\, CA\, 92660
END:VEVENT
END:VCALENDAR