BEGIN:VCALENDAR
VERSION:2.0
PRODID:-//MIFNA - ECPv6.15.20//NONSGML v1.0//EN
CALSCALE:GREGORIAN
METHOD:PUBLISH
X-ORIGINAL-URL:https://mifna.com
X-WR-CALDESC:Events for MIFNA
REFRESH-INTERVAL;VALUE=DURATION:PT1H
X-Robots-Tag:noindex
X-PUBLISHED-TTL:PT1H
BEGIN:VTIMEZONE
TZID:UTC
BEGIN:STANDARD
TZOFFSETFROM:+0000
TZOFFSETTO:+0000
TZNAME:UTC
DTSTART:20220101T000000
END:STANDARD
END:VTIMEZONE
BEGIN:VEVENT
DTSTART;TZID=UTC:20231105T090000
DTEND;TZID=UTC:20231105T120000
DTSTAMP:20260425T152759
CREATED:20230208T174238Z
LAST-MODIFIED:20231029T170958Z
UID:4051-1699174800-1699185600@mifna.com
SUMMARY:MIFNA Hiking/Nature Walk Day
DESCRIPTION:Chair : Sam Hashim \nDetails here: https://mifna.com/mifnas-7th-hike-nature-walk-sun-nov-5th-2023/
URL:https://mifna.com/event/mifna-hiking-nature-walk-day-6/
LOCATION:Prospect Trail 17001 Wabash Ave.\, Yorba Linda\, CA 92886
CATEGORIES:MIFNA Event
END:VEVENT
END:VCALENDAR