BEGIN:VCALENDAR
VERSION:2.0
PRODID:-//MIFNA - ECPv6.15.20//NONSGML v1.0//EN
CALSCALE:GREGORIAN
METHOD:PUBLISH
X-ORIGINAL-URL:https://mifna.com
X-WR-CALDESC:Events for MIFNA
REFRESH-INTERVAL;VALUE=DURATION:PT1H
X-Robots-Tag:noindex
X-PUBLISHED-TTL:PT1H
BEGIN:VTIMEZONE
TZID:UTC
BEGIN:STANDARD
TZOFFSETFROM:+0000
TZOFFSETTO:+0000
TZNAME:UTC
DTSTART:20230101T000000
END:STANDARD
END:VTIMEZONE
BEGIN:VEVENT
DTSTART;TZID=UTC:20241207T150000
DTEND;TZID=UTC:20241207T160000
DTSTAMP:20260424T233454
CREATED:20241122T171315Z
LAST-MODIFIED:20241205T222358Z
UID:4750-1733583600-1733587200@mifna.com
SUMMARY:(UPDATED Change in Venue) MIFNA's 18th AGM Notice: Saturday\, Dec 07\, 2024\, 3:00 PM
DESCRIPTION:  \n  \nSalam voting* members\, \n\nNotice is hereby given that the 18th Annual General Meeting (AGM) of the Malaysian Islamic Foundation of North America (MIFNA) will be held on: \n\nDATE: Saturday\, December 7\, 2024\n\nTIME: 3:00 pm\n\nUPDATED PLACE: 5632 El Palomino Dr\, Jurupa Valley\, CA 92509. Gate code 042#\n\n\nAGENDA: \n\nTo approve the minutes of the 17th AGM held on Saturday\, December 2\, 2023.\nPresident’s Report for 2024.\nTo approve the 2023 Financial Report.\nOther matters.\nAdjournment of meeting.\n\nLight refreshments will be served after the AGM. \nZoom link:\nhttps://us02web.zoom.us/j/84889906092?pwd=cnhMRER2a2VuK2Jsa0N6TjhtS3lnZz09 \nMeeting ID: 848 8990 6092\nPasscode: mifna \nRina Faisal\nSECRETARY 2024-2025 \n\n* Voting members are Family members (member and spouse)\, Individual members\, and Student members. \nMIFNA Communications\nNovember 22\, 2024 & December 5\, 2024
URL:https://mifna.com/event/mifnas-18th-agm-notice-saturday-dec-07-2024-300-pm/
END:VEVENT
END:VCALENDAR