BEGIN:VCALENDAR
VERSION:2.0
PRODID:-//MIFNA - ECPv6.15.20//NONSGML v1.0//EN
CALSCALE:GREGORIAN
METHOD:PUBLISH
X-ORIGINAL-URL:https://mifna.com
X-WR-CALDESC:Events for MIFNA
REFRESH-INTERVAL;VALUE=DURATION:PT1H
X-Robots-Tag:noindex
X-PUBLISHED-TTL:PT1H
BEGIN:VTIMEZONE
TZID:UTC
BEGIN:STANDARD
TZOFFSETFROM:+0000
TZOFFSETTO:+0000
TZNAME:UTC
DTSTART:20230101T000000
END:STANDARD
END:VTIMEZONE
BEGIN:VEVENT
DTSTART;VALUE=DATE:20250301
DTEND;VALUE=DATE:20250302
DTSTAMP:20260424T090527
CREATED:20250204T052711Z
LAST-MODIFIED:20250204T054453Z
UID:4827-1740787200-1740873599@mifna.com
SUMMARY:1st Ramadan 2025/1446 AH & Ramadan Activities
DESCRIPTION:  \nBased on the decision of the Fiqh Council of North America\, the Shura Council has announced that the dates of Ramadan and Eid-al-Fitr for the year 2025/1446 AH are as follows: \nRamadan 2025/1446 AH\nFirst Taraweeh: Friday night\, February 28\, 2025\nFirst Day of Fasting (1st Ramadan): Saturday\, Mar 1\, 2025 \nMay Allah (swt) keep us on the right path and accept our fasting and prayers.  Ameen. \nPlease check out our MIFNA activities in Ramadan: \n1st Communal iftar (majlis berbuka puasa) \n2nd Communal Iftar (majlis berbuka puasa) \nBazaar Ramadan
URL:https://mifna.com/event/1st-ramadan-2025-1446-ah/
CATEGORIES:General Event
END:VEVENT
BEGIN:VEVENT
DTSTART;VALUE=DATE:20240311
DTEND;VALUE=DATE:20240312
DTSTAMP:20260424T090527
CREATED:20240216T162302Z
LAST-MODIFIED:20240216T164641Z
UID:4431-1710115200-1710201599@mifna.com
SUMMARY:1st Ramadan (beginning of fasting month) 2024/1445 AH
DESCRIPTION:The Islamic Shura Council of Southern California has announced the following: \nThe first day of Ramadan is expected to be Monday\, March 11th.  The first Taraweeh will be on Sunday\, March 10. \nFor more information on how these dates were determined\, please go to the Fiqh Council of North America website at moonsighting.com For more specific Ramadan guidance\, including reminders and recommendations\, please go to the Shura Council website at shuracouncil.orgMIFNA will observe the start of Ramadan in solidarity with the Shura council\, which represents the majority of Muslims in Southern California. \nMIFNA will also be organizing two majlis berbuka puasa (communal iftar) and one bazaar Ramadan during the month of Ramadan. Click here https://mifna.com/ramadan-and-shawwal-1445-ah-announcement/
URL:https://mifna.com/event/1st-ramadan-beginning-of-fasting-month-2024-1445-ah/
CATEGORIES:General Event
END:VEVENT
END:VCALENDAR