BEGIN:VCALENDAR
VERSION:2.0
PRODID:-//MIFNA - ECPv6.15.20//NONSGML v1.0//EN
CALSCALE:GREGORIAN
METHOD:PUBLISH
X-WR-CALNAME:MIFNA
X-ORIGINAL-URL:https://mifna.com
X-WR-CALDESC:Events for MIFNA
REFRESH-INTERVAL;VALUE=DURATION:PT1H
X-Robots-Tag:noindex
X-PUBLISHED-TTL:PT1H
BEGIN:VTIMEZONE
TZID:UTC
BEGIN:STANDARD
TZOFFSETFROM:+0000
TZOFFSETTO:+0000
TZNAME:UTC
DTSTART:20220101T000000
END:STANDARD
END:VTIMEZONE
BEGIN:VEVENT
DTSTART;VALUE=DATE:20230305
DTEND;VALUE=DATE:20230306
DTSTAMP:20260426T032040
CREATED:20230208T173009Z
LAST-MODIFIED:20230208T191129Z
UID:4031-1677974400-1678060799@mifna.com
SUMMARY:MIFNA Hiking/Nature Walk Day
DESCRIPTION:Chair : Sam Hashim
URL:https://mifna.com/event/mifna-hiking-nature-walk-day/
CATEGORIES:MIFNA Event
END:VEVENT
BEGIN:VEVENT
DTSTART;VALUE=DATE:20230325
DTEND;VALUE=DATE:20230326
DTSTAMP:20260426T032040
CREATED:20230208T171118Z
LAST-MODIFIED:20230208T191157Z
UID:4017-1679702400-1679788799@mifna.com
SUMMARY:1st Communal iftar (majlis berbuka puasa #1)
DESCRIPTION:Chair : Sam Hashim
URL:https://mifna.com/event/1st-communal-iftar-majlis-berbuka-puasa-1/
LOCATION:Residence of the Consul General\,  Chino Hills\, CA
CATEGORIES:MIFNA Event
END:VEVENT
END:VCALENDAR