BEGIN:VCALENDAR
VERSION:2.0
PRODID:-//MIFNA - ECPv6.15.20//NONSGML v1.0//EN
CALSCALE:GREGORIAN
METHOD:PUBLISH
X-WR-CALNAME:MIFNA
X-ORIGINAL-URL:https://mifna.com
X-WR-CALDESC:Events for MIFNA
REFRESH-INTERVAL;VALUE=DURATION:PT1H
X-Robots-Tag:noindex
X-PUBLISHED-TTL:PT1H
BEGIN:VTIMEZONE
TZID:UTC
BEGIN:STANDARD
TZOFFSETFROM:+0000
TZOFFSETTO:+0000
TZNAME:UTC
DTSTART:20230101T000000
END:STANDARD
END:VTIMEZONE
BEGIN:VEVENT
DTSTART;TZID=UTC:20241006T090000
DTEND;TZID=UTC:20241006T120000
DTSTAMP:20260425T030330
CREATED:20240906T205218Z
LAST-MODIFIED:20240908T195819Z
UID:4661-1728205200-1728216000@mifna.com
SUMMARY:October 2024 Hike
DESCRIPTION:  \nSalaam members and friends\, \nPlease note that our sixth MIFNA hike/nature walk for 2024 will be on Sun\, Oct 6th.The hike/nature walk will be at the Florida Canyon Trail\,1979 Upas St.\, San Diego\, CA 92103. \nIt is an easy 3-mile loop trail. We plan to start the hike/nature walk at 9 a.m. sharp. Parking will be along Upas St. or around Balboa Park. \nAn RSVP is greatly appreciated so we won’t leave anybody behind in case some of you were to arrive late. To RSVP or get more information\, please text Sam Hashim at 310-433-8969. Bottled water and light snacks will be provided. \nWe hope to see you there. \nMIFNA Communications\nSept 6th\, 2024
URL:https://mifna.com/event/october-2024-hike/
LOCATION:Florida Canyon Trail in Balboa Park\, 1979 Upas St.\,\, San Diego\, CA\, 92103\, United States
CATEGORIES:MIFNA Event
END:VEVENT
BEGIN:VEVENT
DTSTART;TZID=UTC:20241020T120000
DTEND;TZID=UTC:20241020T170000
DTSTAMP:20260425T030330
CREATED:20240627T032736Z
LAST-MODIFIED:20241010T165320Z
UID:4578-1729425600-1729443600@mifna.com
SUMMARY:Mifna’s Family Day
DESCRIPTION:El Dorado Park\nWest Community Center and Lawn Area\,\n2800 N Studebaker Rd\,\nLong Beach\, CA 90815 \n  \n \n  \nSalaam members and friends\, \nSave the date and mark your calendars for our annual MIFNA Family Day\, which will be held on Sunday\, October 20th\, 2024\, at the El Dorado Park West Senior Center and Lawn Area. \nAs in previous years\, there will be vendors selling popular Malaysian food\, snacks and desserts\, fun games for the whole family\, and amazing hampers and prizes to be raffled and won. \nIf you are interested in becoming a vendor\, please contact Anizah Hairudin at (562) 547-9954. If you would like to donate baskets/hampers/gifts for raffles\, please contact Liza Rais at (951) 742-9481. If you would like to help out with games and/or setup\, please contact Sam Hashim at (310) 433-8969. \nLet’s make this the best MIFNA Family Day yet! \nMIFNA Communications\nSept 4\, 2024 \n  \nClick here to donate: https://mifna.com/donate-for-mifnas-family-day/ \nClick here to see the food vendors and preorder policy: https://mifna.com/update-food-vendors-and-preorders-for-family-day-sun-oct-20th-2024/  \nClick here to see the games: https://mifna.com/family-day-update-fun-games-for-the-whole-family-sun-oct-20th-2024/
URL:https://mifna.com/event/mifnas-family-day/
LOCATION:El Dorado Park West Senior Center 2800 Studebaker Rd\, Long Beach\, CA 90815\, 2800 Studebaker Rd\, Long Beach\, CA\, 90815\, United States
CATEGORIES:MIFNA Event
END:VEVENT
END:VCALENDAR