BEGIN:VCALENDAR
VERSION:2.0
PRODID:-//MIFNA - ECPv6.15.20//NONSGML v1.0//EN
CALSCALE:GREGORIAN
METHOD:PUBLISH
X-ORIGINAL-URL:https://mifna.com
X-WR-CALDESC:Events for MIFNA
REFRESH-INTERVAL;VALUE=DURATION:PT1H
X-Robots-Tag:noindex
X-PUBLISHED-TTL:PT1H
BEGIN:VTIMEZONE
TZID:UTC
BEGIN:STANDARD
TZOFFSETFROM:+0000
TZOFFSETTO:+0000
TZNAME:UTC
DTSTART:20240101T000000
END:STANDARD
END:VTIMEZONE
BEGIN:VEVENT
DTSTART;TZID=UTC:20250216T090000
DTEND;TZID=UTC:20250216T120000
DTSTAMP:20260424T223448
CREATED:20250110T024736Z
LAST-MODIFIED:20250211T200715Z
UID:4772-1739696400-1739707200@mifna.com
SUMMARY:Hike # 2 MIFNA's Feb Hike/Nature Walk 2025: Sun\, Feb 16th\, 2025
DESCRIPTION:  \nSalaam members and friends\, \nOur MIFNA hike/nature walk for Feb 2025 will be this Sun\, Feb 16th\, 2025\, at the Santiago Creek Trail\, Santiago Oaks Regional Park\, 2145 Windes Dr.\, Orange\, CA 92869. \nIt is an easy-to-moderate trail that is under 2 hours long. We plan to start the hike/nature walk at 9 a.m. sharp. Parking will be at the address above\, with a $5 parking fee per entrance. \nAn RSVP is greatly appreciated so we won’t leave anybody behind in case some of you were to arrive late. To RSVP or get more information\, please text Sam Hashim at 310-433-8969. Bottled water and light snacks will be provided. \nPlease note that in the event of rain\, the hike may be postponed to the following Saturday\, Feb 22nd\, 2025. Please contact Sam at 310-433-8969 for confirmation. \nWe hope to see you there. \nMIFNA Communications\nFeb 11\, 2025
URL:https://mifna.com/event/hike-2/
LOCATION:Santiago Creek Trail\, Santiago Oaks Regional Park\, 2145 Windes Dr.\, Orange\, CA 92869
CATEGORIES:MIFNA Event
END:VEVENT
END:VCALENDAR