BEGIN:VCALENDAR
VERSION:2.0
PRODID:-//MIFNA - ECPv6.15.20//NONSGML v1.0//EN
CALSCALE:GREGORIAN
METHOD:PUBLISH
X-WR-CALNAME:MIFNA
X-ORIGINAL-URL:https://mifna.com
X-WR-CALDESC:Events for MIFNA
REFRESH-INTERVAL;VALUE=DURATION:PT1H
X-Robots-Tag:noindex
X-PUBLISHED-TTL:PT1H
BEGIN:VTIMEZONE
TZID:UTC
BEGIN:STANDARD
TZOFFSETFROM:+0000
TZOFFSETTO:+0000
TZNAME:UTC
DTSTART:20240101T000000
END:STANDARD
END:VTIMEZONE
BEGIN:VEVENT
DTSTART;VALUE=DATE:20250308
DTEND;VALUE=DATE:20250309
DTSTAMP:20260424T213424
CREATED:20250110T024815Z
LAST-MODIFIED:20250307T040239Z
UID:4774-1741392000-1741478399@mifna.com
SUMMARY:Ramadan Iftar #1
DESCRIPTION:  \nFirst Communal Iftar\, Saturday\, Mar 8th\, 2025\nConsulate General of Malaysia\, Los Angeles will host the first iftar at:\nGarvey Center\n9108 Garvey Avenue\nRosemead\, CA 91770 \nRSVP is required as the event is limited to 150 guests. Please RSVP at https://forms.gle/sWw4cE2JEBbNWUT38 at your earliest convenience. You may view the program of the event when you RSVP. \nAn RSVP is required for this event\, and we have almost reached maximum capacity. \nHere is the planned menu for the iftar: \nKurma \nMain Dishes (Nasi Kandar)\nNasi putih\nDaging masak hitam\nAyam sambal bawang\nKari Kepala Ikan\nPapedum\nTelur Masin\nBendi\nKobis goreng kunyit \nDrinks\nTeh Tarik\nFruit punch\nCanned Soda\nWater\nTea and Coffee \nGuests are welcome to bring appetizers and desserts. \nThank you! \nMIFNA Communications\nUpdated Mar 7\, 2025 \n  \n 
URL:https://mifna.com/event/ramadan-iftar-1/
LOCATION:Garvey Center 9108 Garvey Ave. Rosemead\, CA 91770
CATEGORIES:MIFNA Event
END:VEVENT
BEGIN:VEVENT
DTSTART;TZID=UTC:20250316T150000
DTEND;TZID=UTC:20250316T170000
DTSTAMP:20260424T213424
CREATED:20250110T025004Z
LAST-MODIFIED:20250315T211216Z
UID:4776-1742137200-1742144400@mifna.com
SUMMARY:Bazaar Ramadan
DESCRIPTION:  \nBazaar Ramadan\, Sunday\, Mar 16th\, 2025\nJoin us for our annual Ramadan Bazaar at:Backyard of Ben Iskandar’s Residence\n409 W Woodruff Avenue\nArcadia\, CAPlease look through the variety of foods\, cookies\, kuih\, and desserts offered by all eight participating vendors and contact them directly for pre-orders and payment.Pick up time will be from 3 to 5 pm.See you there! \nMIFNA Communications\nUpdated Mar 10\, 2025 \n\n\nE’s Kitchen is sold out!\n\n\n\n\nPerwakilan LA’s Kitchen is sold out!\n\n\n\n\n\n\n\nWarong D’LA’s nasi dagang\, pasembur\, Dubai Chocolate are sold out!\n\n\nBubur lambuk Haji Aji is sold out!
URL:https://mifna.com/event/bazar-ramadan/
LOCATION:409 W Woodruff Ave\, Arcadia\, CA 91007
CATEGORIES:MIFNA Event
END:VEVENT
BEGIN:VEVENT
DTSTART;TZID=UTC:20250322T180000
DTEND;TZID=UTC:20250322T220000
DTSTAMP:20260424T213424
CREATED:20250110T025128Z
LAST-MODIFIED:20250318T202450Z
UID:4779-1742666400-1742680800@mifna.com
SUMMARY:Ramadan Iftar #2
DESCRIPTION:  \n\n\nSecond Communal Iftar\, Saturday\, Mar 22nd\, 2025 \nAssalaam mu’alay kum (peace be upon you)\,  \nDear members and friends\, \n\nPlease join us for MIFNA’s second and last communal iftar (majlis berbuka puasa) for Ramadan 2025: \nSaturday\, March 22\, 2025\n6:00 -10:00 pm\nEl Dorado Park West – Senior Center\n2800 N. Studebaker Rd\nLong Beach\, CA 90815\n  \nProgram\n6:00 pm:       Guests arrival\n7:06 pm:       Buka puasa; announcements\n7:30 pm:       Solat Maghrib\n7:45 pm:       Dinner\n8:30 pm:       Isha’ prayer followed by teraweeh prayer\n10:00 pm:     Clean up\n10:30 pm:     Vacate hall\n  \nMIFNA will provide kurma (dates) and food and drinks for dinner.\n\nDinner Menu\nMalaysian Food:\nNasi putih\, Kari ayam\, Daging masak kicap\, Sambal ikan\, Stir-fry mix vegetables\, Ulam (fresh herbs) & Sambal belacan\,\nMee hoon goreng.  \nAmerican Food:\nCheese pizza\, Veggi pizza; Spaghetti with meat sauce (red). \nDrinks:\nWater\, Fruit punch\, Hot coffee\, Hot water\, Tea bags\, and Teh Tarik mixes.\nCanned soda and Yeo’s boxed drinks (assorted). \n\nGuests are welcome to bring appetizers\, desserts\, or fruits for the iftar.\n  \n  \nZakat Fitrah\nThere is still time to pay your zakat fitrah. We want to thank all those who have paid their zakat fitrah to date.  It is $15/person and can be paid online at Donation/Zakat – MIFNA or in person at the iftar to one of the following amil (zakat collector):\n\nSam Hashim\nIshak Japar\n\nPlease pay your zakat fitrah by Monday\, March 24\, if possible\, so that the zakat committee can distribute the collection to qualified recipients before Eid il Fitri on March 30\, 2025.  \nThe zakat committee is now accepting nominations for zakat fitrah recipients.  Please provide full name and contact information for each recipient nominated.\nSubmit your nominations to:\nSam Hashim\, Chair\, 2025 zakat committee\nEmail: azni97@yahoo.com \nYou may also pay your zakat and sadaqah to your local masjid or online to other Muslim charities and organizations such as:\nIslamic Relief: https://irusa.org/  \nZakat Foundation: https://www.zakat.org/ramadan \nMIFNA Communications\nMarch 17\, 2025
URL:https://mifna.com/event/ramadan-iftar-2/
LOCATION:El Dorado Park West Senior Center\, 2800 N. Studebaker\, Long Beach\, CA\, 90815\, United States
CATEGORIES:MIFNA Event
END:VEVENT
BEGIN:VEVENT
DTSTART;TZID=UTC:20250330T083000
DTEND;TZID=UTC:20250330T130000
DTSTAMP:20260424T213424
CREATED:20250110T025226Z
LAST-MODIFIED:20250324T214524Z
UID:4781-1743323400-1743339600@mifna.com
SUMMARY:Hari Raya Aidil Fitri-Solat & Brunch
DESCRIPTION:  \n1st of Shawwal and Hari Raya Aidil Fitri: Sunday\, March 30\nThe 1st of Shawwal and the end of fasting is less than ten days away.  Preparations are already underway to celebrate this most auspicious and joyous day.\n\nMIFNA will be hosting Solat ‘Aidil Fitri followed by brunch on Sunday\, March 30\, at the Skyview Event Center\, 5257 Wineville Ave.\, Jurupa Valley\, CA 91752. \nAll MIFNA members and Friends of MIFNA are invited.  To ensure that we have enough food\, seats and ‘duit raya’ for the kids\, we are asking for RSVP by clicking on this link https://docs.google.com/forms/d/150oJ5ftR8QbdZrN5jq-d8HFbSK9vtsr4QxHNHZzfx3E/preview. Please RSVP by Friday\, March 28. \nIf you plan to bring non-MIFNA members as guests to the event\, please contact Event Chair Hasnah Hamdan at 949-230-1432 by Friday\, March 28\, to register your guests.  A donation of $20 per guest is appreciated\, or your guest(s) may join MIFNA as an individual\, family\, student\, or honorary member.  The membership application can be completed online at Membership – MIFNA prior to the event.  Please RSVP with the total number of adults and kids attending (including guests) by March 28. \nMIFNA is providing all food and drinks for the brunch.  Members are welcome to bring dessert\, kuih Raya (Raya cookies)\, or fruits to share. \n\n\n\nCall for DonationsWe are soliciting donations to help defray the costs for MIFNA’s Ramadan and Shawwal events.  May we suggest the following donation amounts: \nPlatinum:    ≥$1000 \nGold:          $500-$999 \nSilver:         $200-$499 \nBronze:      $100-$199 \nDonations in other amounts or in ‘kind’ are also welcome.  Thank you in advance for your generosity. \n1.   You may donate online at Donation/Zakat – MIFNA.\n2.   Donate in person to event chairperson: Hasnah Hamdan\, MIFNA treasurer: Anizah Hairudin\, or any MIFNA Board member.\n3.   Put your donation into any Donation boxes that will be available at the event. \nContact Hasnah at 949-230-1432 if you have questions or suggestions for Raya donation.\n\n\n\n  \nProgram 8:30 am    Guests Arrival & Registration \n8:45 am    Takbeer begins \n9:15 am    Solat Aidil Fitri & Khutbah \n10:15 am    Brunch \n10:30 am    Photo Session begins \n11:00 am    Welcome Remarks & Announcements \nDuit Raya Give-Away \nSocial Hour \n1:00 pm    Event Ends\, Clean Up \n2:00 pm    Vacate Hall \n\n  \nBrunch Menu\nMain Dishes:\nNasi Impit (Cubed Rice)\nNasi Putih (White Rice)\nNasi Minyak (Buttered Rice)\nLemang & Pulut Kuning\nRendang Daging (Beef Rendang)\nAyam Masak Merah (Chicken in Red Sauce)\nLodeh (Vegetables\, Tofu & Tempeh in Coconut Gravy)\nKuah Kacang (Peanut Sauce). \nVegetarian Dishes:\nNasi Impit (Cubed Rice)\nNasi Putih (White Rice)\nPulut Kuning\nRendang Nangka (Jackfruit Rendang)\nVegetarian Lodeh (Vegetables & Tofu in Coconut Gravy)\nKuah Kacang (Peanut Sauce)\nMee Goreng Sayur (Vegetarian Fried Noodles). \nPizza & Noodles:\nCheese pizza\nVeggie pizza\nMee Goreng Udang (Fried noodles with Shrimp)\nMee Goreng Ayam (Fried noodles with Chicken) \nDessert:\nDurian cake\nPandan cake\nChocolate cake\nVanilla cake\nKuih Raya (Raya cookies)\nFruits \nCold Drinks:\nFruit punch\nCanned Soda\nWater \nHot Drinks:\nCoffee\nTea\n3 in 1 Coffee\n3 in 1 Tea \n  \nRules/Requirements \nPlease be aware and observe the following rules/requirements for the event: \n1.   Registration/sign-in is required at the hall.\n2.   Facial masks are optional.\n3.   Please bring your own prayer mat for solat if you can.\n4.   Smoking or vaping is not allowed on the premises\, in the parking lot and at the neighboring Vernola Family Park (per Riverside County ordinance).\n5.   Children must be supervised at all times. \nMIFNA will not be liable for any mishaps during the event. \nRecommended attire:  Traditional or business casual. \nMIFNA Communications \nMarch 24\, 2025 \n 
URL:https://mifna.com/event/hari-raya-aidil-fitri-solat-brunch/
LOCATION:Skyview Event Center\, 5257 Wineville Avenue\, Jurupa Valley\, CA 91752
CATEGORIES:MIFNA Event
END:VEVENT
END:VCALENDAR