BEGIN:VCALENDAR
VERSION:2.0
PRODID:-//MIFNA - ECPv6.15.20//NONSGML v1.0//EN
CALSCALE:GREGORIAN
METHOD:PUBLISH
X-ORIGINAL-URL:https://mifna.com
X-WR-CALDESC:Events for MIFNA
REFRESH-INTERVAL;VALUE=DURATION:PT1H
X-Robots-Tag:noindex
X-PUBLISHED-TTL:PT1H
BEGIN:VTIMEZONE
TZID:UTC
BEGIN:STANDARD
TZOFFSETFROM:+0000
TZOFFSETTO:+0000
TZNAME:UTC
DTSTART:20220101T000000
END:STANDARD
END:VTIMEZONE
BEGIN:VEVENT
DTSTART;VALUE=DATE:20230402
DTEND;VALUE=DATE:20230403
DTSTAMP:20260426T032114
CREATED:20230208T172113Z
LAST-MODIFIED:20230208T191330Z
UID:4021-1680393600-1680479999@mifna.com
SUMMARY:Bazar Ramadan #1
DESCRIPTION:Chair : Salina Farkas
URL:https://mifna.com/event/mifna-hiking-nature-walk-day-sun-march-5th-2023/
CATEGORIES:MIFNA Event
END:VEVENT
END:VCALENDAR