BEGIN:VCALENDAR
VERSION:2.0
PRODID:-//MIFNA - ECPv6.15.20//NONSGML v1.0//EN
CALSCALE:GREGORIAN
METHOD:PUBLISH
X-ORIGINAL-URL:https://mifna.com
X-WR-CALDESC:Events for MIFNA
REFRESH-INTERVAL;VALUE=DURATION:PT1H
X-Robots-Tag:noindex
X-PUBLISHED-TTL:PT1H
BEGIN:VTIMEZONE
TZID:UTC
BEGIN:STANDARD
TZOFFSETFROM:+0000
TZOFFSETTO:+0000
TZNAME:UTC
DTSTART:20220101T000000
END:STANDARD
END:VTIMEZONE
BEGIN:VEVENT
DTSTART;VALUE=DATE:20230421
DTEND;VALUE=DATE:20230422
DTSTAMP:20260426T032211
CREATED:20230208T172811Z
LAST-MODIFIED:20230412T155554Z
UID:4028-1682035200-1682121599@mifna.com
SUMMARY:Hari Raya Aidil Fitri
DESCRIPTION:Chair: Hasnah Hamdan
URL:https://mifna.com/event/hari-raya-aidil-fitri-2/
LOCATION:Skyview Event Center Jurupa Valley\, CA
CATEGORIES:MIFNA Event
END:VEVENT
END:VCALENDAR