BEGIN:VCALENDAR
VERSION:2.0
PRODID:-//MIFNA - ECPv6.15.20//NONSGML v1.0//EN
CALSCALE:GREGORIAN
METHOD:PUBLISH
X-WR-CALNAME:MIFNA
X-ORIGINAL-URL:https://mifna.com
X-WR-CALDESC:Events for MIFNA
REFRESH-INTERVAL;VALUE=DURATION:PT1H
X-Robots-Tag:noindex
X-PUBLISHED-TTL:PT1H
BEGIN:VTIMEZONE
TZID:UTC
BEGIN:STANDARD
TZOFFSETFROM:+0000
TZOFFSETTO:+0000
TZNAME:UTC
DTSTART:20230101T000000
END:STANDARD
END:VTIMEZONE
BEGIN:VEVENT
DTSTART;TZID=UTC:20240309T090000
DTEND;TZID=UTC:20240309T120000
DTSTAMP:20260425T122533
CREATED:20240124T004833Z
LAST-MODIFIED:20240306T182349Z
UID:4385-1709974800-1709985600@mifna.com
SUMMARY:March 2024 Hike (Changed to Sat\, Mar 9th\, 2024)
DESCRIPTION:NEW UPDATES\n  \n  \n \n  \n  \nSalaam members and friends\,Our second MIFNA hike/nature walk for 2024 is now on Saturday\, March 9th at the Big Dalton Canyon Trail\, 2041 Big Dalton Canyon Rd.\, Glendora\, CA 91741. It is an easy 2.2-mile hike/walk.You may park near the trail head. We plan to start the hike/nature walk at 9 am sharp. An RSVP is greatly appreciated so we won’t leave anybody behind in case some of you were to arrive late.To RSVP or get more information\, please text Sam Hashim at 310-433-8969. Bottled water and light snacks will be provided.We hope to see you there.MIFNA Communications March 6th\, 2024
URL:https://mifna.com/event/march-2024-hike/
LOCATION:Big Dalton Canyon Trail\, 2041 Big Dalton Canyon Road\, Glendora\, CA 91741
CATEGORIES:MIFNA Event
END:VEVENT
END:VCALENDAR