BEGIN:VCALENDAR
VERSION:2.0
PRODID:-//MIFNA - ECPv6.15.20//NONSGML v1.0//EN
CALSCALE:GREGORIAN
METHOD:PUBLISH
X-WR-CALNAME:MIFNA
X-ORIGINAL-URL:https://mifna.com
X-WR-CALDESC:Events for MIFNA
REFRESH-INTERVAL;VALUE=DURATION:PT1H
X-Robots-Tag:noindex
X-PUBLISHED-TTL:PT1H
BEGIN:VTIMEZONE
TZID:UTC
BEGIN:STANDARD
TZOFFSETFROM:+0000
TZOFFSETTO:+0000
TZNAME:UTC
DTSTART:20230101T000000
END:STANDARD
END:VTIMEZONE
BEGIN:VEVENT
DTSTART;TZID=UTC:20240316T183000
DTEND;TZID=UTC:20240316T220000
DTSTAMP:20260425T123049
CREATED:20240216T163116Z
LAST-MODIFIED:20240312T005532Z
UID:4435-1710613800-1710626400@mifna.com
SUMMARY:Majlis Berbuka Puasa (iftar)_1 Hosted by Consul General Malaysia\, Los Angeles
DESCRIPTION:  \n  \nSalaam members and friends\, \nWe would like to wish all our Muslim members and friends\, a blessed month of Ramadan. \nAs announced earlier\, our first community iftar (majlis berbuka puasa) will be hosted by MIFNA patron\, Consul-General Puan Anil Adenan on Saturday\, March 16th\, at the Garvey Center\, 9108 Garvey Avenue\, Rosemead\, CA 91770. \nPlease remember to RSVP as the venue has a maximum capacity of 150 pax. Click on  this link to view the invitation and program\, and click on the RSVP button on the invitation. Please submit your RSVP latest by Wednesday\, March 13. \nMenu \nMain Course: \nNasi Arab \nAyam Nasi Arab \nKurma Daging \nAcar Buah \nPapadom \n  \nDrinks: \nCoffee 3 in 1 \nTeh Tarik \nCordial Syrup \nDetox Drinks \nMineral Water \n  \nDates (Kurma) will also be provided. \nGuests are welcome to bring appetizers and desserts. \nSelamat Berpuasa\, may Allah accept our fasting and all acts of worship during this holy month of Ramadan. \n  \n  \nMIFNA Communications \nMarch 11th\, 2024 \n  \n  \n  \nNotation: \n\n\n\nMajlis Berbuka Puasa (iftar)_1Hosted by Consul General Malaysia\, Los Angeles Coordinator*: Faiez Mazlan & Sam HashimTel: 626-376-8124\nSaturday03/16/246 pm\nGarvey Center9108 Garvey Ave.Rosemead\, CA 91770\n\n\n\n*Please contact the event coordinator if you would like to contribute or donate for the majlis berbuka puasa. You may also donate online at mifna.com or by Zelle to mifnatreasurer@mifna.com
URL:https://mifna.com/event/majlis-berbuka-puasa-iftar_1-hosted-by-consul-general-malaysia-los-angeles/
LOCATION:Garvey Center 9108 Garvey Ave. Rosemead\, CA 91770
CATEGORIES:MIFNA Event
END:VEVENT
END:VCALENDAR