BEGIN:VCALENDAR
VERSION:2.0
PRODID:-//MIFNA - ECPv6.15.20//NONSGML v1.0//EN
CALSCALE:GREGORIAN
METHOD:PUBLISH
X-ORIGINAL-URL:https://mifna.com
X-WR-CALDESC:Events for MIFNA
REFRESH-INTERVAL;VALUE=DURATION:PT1H
X-Robots-Tag:noindex
X-PUBLISHED-TTL:PT1H
BEGIN:VTIMEZONE
TZID:UTC
BEGIN:STANDARD
TZOFFSETFROM:+0000
TZOFFSETTO:+0000
TZNAME:UTC
DTSTART:20230101T000000
END:STANDARD
END:VTIMEZONE
BEGIN:VEVENT
DTSTART;TZID=UTC:20240410T080000
DTEND;TZID=UTC:20240410T120000
DTSTAMP:20260425T110842
CREATED:20240216T164421Z
LAST-MODIFIED:20240402T223054Z
UID:4446-1712736000-1712750400@mifna.com
SUMMARY:1st of Shawwal and Hari Raya Aidil Fitri Celebration 2024
DESCRIPTION:Salaam members and friends\, The first of Shawwal and the end of fasting are just a week away. Preparations are already underway to celebrate this auspicious and joyous day. MIFNA will be hosting Solat ‘Aidil Fitri followed by brunch on Wednesday\, April 10\, 2024\, at: Grand View BallroomDiamond Bar Center (DBC)1600 Grand AvenueDiamond Bar\, CA 91765  All MIFNA members and Friends of MIFNA are invited.  MIFNA is providing all the food for the brunch.  Guests are welcome to bring kuih Raya (Raya cookies) or a fruit platter to share. \n \nWe are soliciting donations to help defray the costs for MIFNA’s Ramadan and Shawwal events.  May we suggest the following donation amounts: \nPlatinum:    ≥$1000 \nGold:          $500-$999 \nSilver:         $200-$499 \nBronze:      $100-$199 \nDonations in other amounts or in ‘kind’ are also welcome.  Thank you in advance for your generosity. \n1.   You can donate online at mifna.com2.   To donate directly via Zelle\, use mifnatreasurer@mifna.com 3. Call\, text\, or WhatsApp event coordinator Hasnah Hamdan at 949-230-1432 with your donation suggestion or questions. \n  \n \n8:00 am    Guest Arrival & Registration \n8:30 am     Takbeer begins \n9:00 am     Solat Aidil Fitri & Khutbah \n10:00 am   Brunch \n10:30 am   Photo Session begins \n11:00 am    Welcome Remarks \n‘Duit Raya’ Giveaway \nSocial Hour \n12:00 pm   Event ends; Clean up \n1:00 pm     Vacate hall \n  \n \nMainNasi Impit (white rice) \nNasi Putih (white rice) \nNasi Minyak (buttered rice) \nRendang Daging (beef rendang) \nAyam Masak Sambal (chicken in sambal sauce) \nSayur Lodeh (vegetables\, tofu\, tempeh in coconut gravy) \nKuah Kacang (peanut sauce) \nPajeri Nenas (pineapple curry) \nVegetarian \nNasi Impit (cubed rice) \nNasi Putih (white rice) \nPulut (sticky rice) \nRendang Nangka (jackfruit rendang) \nVegetarian Kuah Kacang (peanut sauce) \nMee Goreng Sayur (vegetarian fried noodles). \nPizza & Noodles \nCheese Pizza \nVeggie Pizza \nMee Goreng Udang (seafood fried noodles) \nMee Goreng Ayam (fried noodles with chicken) \nDesserts \nKek Pandan (pandan cake) \nKek Durian (durian cake) \nChocolate Cake \nVanilla Cupcakes \nKuih Raya (Raya cookies) \nFruits \nCold and hot drinks will be provided. \n  \n \nPlease observe the following rules/requirements for the event: \n1.   Registration/sign-in is required at the hall entrance. \n2.   You may bring your own prayer mat for the solat. \n3.   Smoking or vaping is not allowed on the premises. \n4.   Children must be supervised at all times. \nRecommended attire:  Traditional or business casual. \n\nMIFNA Communications \nApril 2\, 2024 \n  \n\n\n\n1st Shawwal (Hari Raya Aidil Fitri)Coordinator*: Hasnah HamdanTel: 949-230-1432\nWednesday04/10/248.00 am\nGrand BallroomDiamond Bar Center1600 Grand Ave.\, Diamond Bar\, CA 91765\n\n\n\n  \nThe Islamic Shura Council of Southern California has announced the following: \nThe first day of Shawwal (Eid al Fitr) is expected to be on Wednesday\, April 10th. \nFor more information on how these dates were determined\, please go to the Fiqh Council of North America website at moonsighting.com \nFor more specific Ramadan guidance\, including reminders and recommendations\, please go to the Shura Council website at shuracouncil.org \nMIFNA will observe the start of Shawwal in solidarity with the Shura council\, which represents the majority of Muslims in Southern California. \nSolat (prayer) Hari Raya Aidilfitri and brunch are planned for Wednesday\, April 10th. \n*Please contact the event coordinator if you would like to contribute or donate to the majlis solat Hari Raya Aidil Fitri and brunch. You may also donate online at mifna.com or by Zelle to mifnatreasurer@mifna.com.
URL:https://mifna.com/event/1st-shawwal-hari-raya-aidil-fitri/
LOCATION:Grand Ballroom Diamond Bar Center 1600 Grand Ave.\, Diamond Bar\, CA 91765
CATEGORIES:MIFNA Event
END:VEVENT
END:VCALENDAR