BEGIN:VCALENDAR
VERSION:2.0
PRODID:-//MIFNA - ECPv6.15.20//NONSGML v1.0//EN
CALSCALE:GREGORIAN
METHOD:PUBLISH
X-WR-CALNAME:MIFNA
X-ORIGINAL-URL:https://mifna.com
X-WR-CALDESC:Events for MIFNA
REFRESH-INTERVAL;VALUE=DURATION:PT1H
X-Robots-Tag:noindex
X-PUBLISHED-TTL:PT1H
BEGIN:VTIMEZONE
TZID:UTC
BEGIN:STANDARD
TZOFFSETFROM:+0000
TZOFFSETTO:+0000
TZNAME:UTC
DTSTART:20240101T000000
END:STANDARD
END:VTIMEZONE
BEGIN:VEVENT
DTSTART;TZID=UTC:20250126T090000
DTEND;TZID=UTC:20250126T120000
DTSTAMP:20260425T005135
CREATED:20250110T024655Z
LAST-MODIFIED:20250124T023111Z
UID:4770-1737882000-1737892800@mifna.com
SUMMARY:Hike # 1
DESCRIPTION:  \n\nSalam everyone\,\n\n\n \n\n\nCome and join our first MIFNA hike for the year this Sunday\, January 26th. Details are in the flyer.\n\n\n \n\n\nWe hope to see you then.\n\n\n \n\n\nMIFNA Communications \n\n\nJanuary 23\, 2025
URL:https://mifna.com/event/hike-1/
LOCATION:Upper Newport Bay Nature Preserve\, 2301 University Dr.\, Newport Beach\, CA\, CA\, 92660
CATEGORIES:MIFNA Event
END:VEVENT
END:VCALENDAR