BEGIN:VCALENDAR
VERSION:2.0
PRODID:-//MIFNA - ECPv6.15.20//NONSGML v1.0//EN
CALSCALE:GREGORIAN
METHOD:PUBLISH
X-ORIGINAL-URL:https://mifna.com
X-WR-CALDESC:Events for MIFNA
REFRESH-INTERVAL;VALUE=DURATION:PT1H
X-Robots-Tag:noindex
X-PUBLISHED-TTL:PT1H
BEGIN:VTIMEZONE
TZID:UTC
BEGIN:STANDARD
TZOFFSETFROM:+0000
TZOFFSETTO:+0000
TZNAME:UTC
DTSTART:20240101T000000
END:STANDARD
END:VTIMEZONE
BEGIN:VEVENT
DTSTART;VALUE=DATE:20250803
DTEND;VALUE=DATE:20250804
DTSTAMP:20260425T153500
CREATED:20250110T025846Z
LAST-MODIFIED:20250110T025846Z
UID:4793-1754179200-1754265599@mifna.com
SUMMARY:Hike # 7
DESCRIPTION:
URL:https://mifna.com/event/hike-7/
END:VEVENT
BEGIN:VEVENT
DTSTART;VALUE=DATE:20250831
DTEND;VALUE=DATE:20250901
DTSTAMP:20260425T153500
CREATED:20250110T030145Z
LAST-MODIFIED:20250601T002224Z
UID:4801-1756598400-1756684799@mifna.com
SUMMARY:Unity Festival
DESCRIPTION:
URL:https://mifna.com/event/unity-festival/
END:VEVENT
BEGIN:VEVENT
DTSTART;VALUE=DATE:20250914
DTEND;VALUE=DATE:20250915
DTSTAMP:20260425T153500
CREATED:20250110T025907Z
LAST-MODIFIED:20250913T044332Z
UID:4795-1757808000-1757894399@mifna.com
SUMMARY:MIFNA's September Hike/Nature Walk 2025: Sun\, Sept 14th\, 2025
DESCRIPTION:  \nSalaam members and friends\, \nOur MIFNA hike/nature walk for September 2025 will be this Sun\, September 14th\, 2025\, at the Marshall Canyon Trail\, 5400 Wheeler Ave.\, La Verne\, CA 91750. \nIt is an easy-to-moderate trail that can be completed under 2 hours. We plan to start the hike/nature walk at 9 a.m. sharp. We will park and meet at Oak Mesa Park\, at the address given above. Restrooms are available in the park. \nAn RSVP is greatly appreciated\, so we won’t leave anybody behind in case some of you arrive late. To RSVP or get more information\, please text Sam Hashim at 310-433-8969. Bottled water and light snacks will be provided. \nWe hope to see you there. \nMIFNA Communications\nSept 13\, 2025
URL:https://mifna.com/event/hike-8/
END:VEVENT
BEGIN:VEVENT
DTSTART;TZID=UTC:20251005T090000
DTEND;TZID=UTC:20251005T120000
DTSTAMP:20260425T153500
CREATED:20250110T030034Z
LAST-MODIFIED:20251001T170440Z
UID:4797-1759654800-1759665600@mifna.com
SUMMARY:MIFNA's October Hike/Nature Walk 2025: Sun\, Oct 5th\, 2025
DESCRIPTION:  \n\nSalaam members and friends\, \nOur MIFNA hike/nature walk for October 2025 will be this Sunday\, October 5th\, 2025\, at the Oak Canyon Nature Center\, 6700 E. Walnut Canyon Rd.\, Anaheim\, CA 92807. \nIt is an easy-to-moderate trail that can be completed under 2 hours. We plan to start the hike/nature walk at 9 a.m. sharp. We will park and meet at the Nature Center parking lot\, at the address given above. Parking is free\, and restrooms are available in the nature center. \nAn RSVP is greatly appreciated\, so we won’t leave anybody behind in case some of you arrive late. To RSVP or get more information\, please text Sam Hashim at 310-433-8969. Bottled water and light snacks will be provided. \nWe hope to see you there. \nMIFNA Communications  \n\nOct 1st\, 2025
URL:https://mifna.com/event/hike-9/
END:VEVENT
BEGIN:VEVENT
DTSTART;TZID=UTC:20251012T110000
DTEND;TZID=UTC:20251012T170000
DTSTAMP:20260425T153500
CREATED:20250110T030117Z
LAST-MODIFIED:20251010T201033Z
UID:4799-1760266800-1760288400@mifna.com
SUMMARY:Family Day\, Sunday\, October 12th\, 2025
DESCRIPTION:  \nSalam members and friends\, \nMIFNA Family Day is on October 12\, 2025\, at the El Dorado Park West Senior Center and Lawn Area\, 2800 N. Studebaker Rd.\, Long Beach\, CA 90815. \nPlease plan to arrive between 11 and 11:30 am. The registration table opens at 11 am\, and food vendors open at 11:30 am. Note that Fried Chicken ala KFC will only arrive after 12 noon. \nWe hope you have pre-ordered your food from the many food vendors selling that day. If not\, please do so soon as some vendors like Sate Abah have sold out and food item like the mee rebus has reached its maximum order quantity. Link for pre-orders is at the bottom of this page. \nThere will be tables and chairs set up in the lawn area\, but you are welcome to bring your picnic chairs and blankets. However\, please leave your cute pets at home. \nZuhur prayers will be at 12:45 pm\, and Games will begin at 1 pm. Please sign up for the games you would like to play at the registration table when you arrive. Delightful prizes await. \nAfter the games are done\, we will assemble at the Senior Center Hall for the opening dance performed by MIFNA ladies and youth. We will have our prize giving and raffles at the hall too. Remember to buy raffle tickets at the registration table for a chance to win the many wonderful gift baskets donated and put together by our members and friends. \nLast but not least\, the event will close with a performance by MIFNA band members\, accompanied by our very young but talented dancers. \nSee you then! \nMIFNA Communications\nOctober 10th\, 2025 \n \n  \n  \nYou can also make a cash donation through PayPal on our website Mifna.com or Zelle us directly at mifnatreasurer@mifna.com. \nThank you in advance for your support in making this event fun and successful! \n  \nEvent Program can be viewed here: https://mifna.com/event-program-for-family-day-sun-oct-12-2025/ \nVendors and Food Pre-Orders can be viewed here: https://mifna.com/vendors-and-food-pre-orders-for-family-day-sun-oct-12-2025/ \nGames can be viewed here: https://mifna.com/games-for-family-day-sun-oct-12-2025/
URL:https://mifna.com/event/family-day-tbd/
LOCATION:El Dorado Park West Senior Center 2800 Studebaker Rd\, Long Beach\, CA 90815\, 2800 Studebaker Rd\, Long Beach\, CA\, 90815\, United States
CATEGORIES:MIFNA Event
END:VEVENT
BEGIN:VEVENT
DTSTART;VALUE=DATE:20251213
DTEND;VALUE=DATE:20251214
DTSTAMP:20260425T153500
CREATED:20250110T030251Z
LAST-MODIFIED:20251203T203707Z
UID:4805-1765584000-1765670399@mifna.com
SUMMARY:AGM & High Tea
DESCRIPTION:  \nSalam members and friends\, \n\n19th ANNUAL GENERAL MEETING\nNotice is hereby given that the 19th Annual General Meeting (AGM) of Malaysian Islamic Foundation of North America (MIFNA) will be held on:\nDATE: Saturday\, December 13\, 2025\nTIME: 2:00 pm\nPLACE: Jurupa Community Center (JCC)\, 4810 Pedley Road\, Jurupa Valley\, CA 92509 \n\n\nAgenda:\n\nTo approve the minutes of the 18th AGM held on December 7\, 2024.\nPresident’s Report for 2025.\nTo approve the 2024 Financial Report.\nProposal to amend MIFNA Bylaws (proposed amendment in red):\n\n\nSECTION 11.6. LOANS AND GRANTS\n\n\nThe corporation shall not make any loans or grants to members without the members’ submission of a written application for the loan or grant\, and only upon board approval.\nTerms of the loan or grant shall be clearly stated in a written contract\, reviewed and approved by the board\, and shall include the loan or grant amount\, repayment terms\, loan fees\, repayment period\, and installment amount.\n\nThe maximum amount of loan shall be no more than 70% of the balance in the Emergency Assistance Fund (EAF) or ≤$4000 (whichever is less). Debtor shall complete and sign a Promissory note or loan form before the loan can be disbursed by the MIFNA treasurer.  Terms of payment: Loans ≤$2500 are to be paid within 6 months.  Loans >$2500 are to be paid within 1 year.\nThe amount that can be given out per grant is no more than 20% of the balance in EAF or $1000 maximum (whichever is less).  Each recipient is limited to receive only one grant per year.\n\n\n\n\nARTICLE II Section 2.1 NON-PROFIT PURPOSE:\n\n           This corporation is organized exclusively for charitable\, religious\, and educational purposes\, including for such purposes\, the making of distributions to organizations that qualify as exempt organizations under section 501(c)(3) of the Internal Revenue Code\, or the corresponding section of any future federal tax code.  MIFNA was incorporated on Nov 13\, 2006\, in the state of California.  IRS EIN (Tax ID): 20-8103223.\n\nElection of 2026-2027 MIFNA Board of Directors:\n\nReport by Election Chair\nResults of the Election\nRatification of Election results.\n\n\nOther matters.\nAdjournment of meeting.\n\nHigh tea will be served after the AGM.\n\n\n\nRina Faisal\nMIFNA Secretary 2024-2025\n\n\n\nHigh tea details: Click here.  RSVP Required.
URL:https://mifna.com/event/agm-recognition-dinner/
LOCATION:Jurupa Community Center\, Jurupa Valley\, CA
END:VEVENT
BEGIN:VEVENT
DTSTART;VALUE=DATE:20251214
DTEND;VALUE=DATE:20251215
DTSTAMP:20260425T153500
CREATED:20250110T030313Z
LAST-MODIFIED:20251211T203246Z
UID:4807-1765670400-1765756799@mifna.com
SUMMARY:MIFNA's December Hike/Nature Walk 2025: Sun\, Dec 14th\, 2025
DESCRIPTION:  \nSalaam members and friends\, \nOur MIFNA hike/nature walk for December 2025 will be this Sunday\, December 14th\, 2025\, at the Deer Canyon Park\, 7502 E. Hollow Oak Rd.\, Anaheim\, CA 92808. \nIt is a moderate trail that can be completed under 2 hours. We plan to start the hike/nature walk at 9 a.m. sharp. We will park along the road at the address given above. \nAn RSVP is greatly appreciated\, so we won’t leave anybody behind in case some of you arrive late. To RSVP or get more information\, please text Sam Hashim at 310-433-8969. Bottled water and light snacks will be provided. \nWe hope to see you there. \nMIFNA Communications \nDec 11th\, 2025
URL:https://mifna.com/event/hike-11/
END:VEVENT
BEGIN:VEVENT
DTSTART;TZID=UTC:20260201T090000
DTEND;TZID=UTC:20260201T090000
DTSTAMP:20260425T153500
CREATED:20260125T002407Z
LAST-MODIFIED:20260127T200137Z
UID:5163-1769936400-1769936400@mifna.com
SUMMARY:Hike #1
DESCRIPTION:  \nSalaam members and friends\, \nOur MIFNA hike/nature walk for January 2026 will be this Sunday\, February 1st\, 2026\, at the Big Dalton Canyon Trail\, Glendora\, CA 91741. \nIt is an easy-to-moderate trail that is about 3 miles long. We plan to start the hike/nature walk at 9 a.m. sharp. We will park along the Big Dalton Canyon Rd. \nAn RSVP is greatly appreciated\, so we won’t leave anybody behind in case some of you arrive late. To RSVP or get more information\, please text Sam Hashim at 310-433-8969. Bottled water and light snacks will be provided. \nWe hope to see you there. \nMIFNA Communications \nJan 27th\, 2026
URL:https://mifna.com/event/hike-1-2/
CATEGORIES:MIFNA Event
END:VEVENT
BEGIN:VEVENT
DTSTART;TZID=UTC:20260215T090000
DTEND;TZID=UTC:20260215T090000
DTSTAMP:20260425T153500
CREATED:20260125T002515Z
LAST-MODIFIED:20260211T022126Z
UID:5166-1771146000-1771146000@mifna.com
SUMMARY:Hike #2 MIFNA's Feb Hike/Nature Walk 2026: Sun\, Feb 15th\, 2026
DESCRIPTION:  \n\nSalaam members and friends\, \nWe have planned another MIFNA hike/nature walk for Feb 2026\, and it will be this Sunday\, February 15th\, at the Deer Canyon Park Reserve\,7512 E Hollow Oak Road. Anaheim\, CA 92808. \nThe trail will take us under 2 hours to complete and is stroller-friendly. We plan to start the hike/nature walk at 9 a.m. sharp. Please park along the E Hollow Oak Rd. \nAn RSVP is greatly appreciated\, so we won’t leave anybody behind in case some of you arrive late. To RSVP or get more information\, please text Sam Hashim at 310-433-8969. Bottled water and light snacks will be provided. \nWe hope to see you there. \n  \nMIFNA Communications  \n\nFeb 10th\, 2026
URL:https://mifna.com/event/hike-2-2/
END:VEVENT
BEGIN:VEVENT
DTSTART;VALUE=DATE:20260218
DTEND;VALUE=DATE:20260219
DTSTAMP:20260425T153500
CREATED:20260125T002553Z
LAST-MODIFIED:20260217T180831Z
UID:5168-1771372800-1771459199@mifna.com
SUMMARY:1st Ramadan
DESCRIPTION:  \n\n\n\n\n\n\nFirst Ramadan\nJust a reminder that the 1st of Ramadan begins tonight after sunset.  First Taraweeh is tonight\, Tuesday\, Feb 17. \nThe first day of fasting will be tomorrow\, Wednesday\, Feb 18. Fasting begins after dawn tomorrow.
URL:https://mifna.com/event/1st-ramadan/
END:VEVENT
BEGIN:VEVENT
DTSTART;VALUE=DATE:20260228
DTEND;VALUE=DATE:20260301
DTSTAMP:20260425T153500
CREATED:20260125T002624Z
LAST-MODIFIED:20260217T180516Z
UID:5171-1772236800-1772323199@mifna.com
SUMMARY:Ramadan iftar #1
DESCRIPTION:  \n1st Communal Iftar \nMIFNA’s first communal iftar (majlis berbuka puasa) this Ramadan will be on Saturday\, February 28\, 5-11 pm. Please RSVP to Hasnah Hamdan at 949-230-1472 by Wednesday\, Feb 25\, 2026\, if you plan to attend.  Please include the number of people in your party\, and how many kids\, if any. \nVenue: Jurupa Community Center\, 4810 Pedley Rd\, Jurupa Valley\, CA 92509 \nMIFNA will be providing food and drinks for the iftar.  Guests are welcome to bring appetizers\, desserts\, or fruits. \nMenu (Main)\nNasi Putih (white rice)\nDaging & Rebung Masak Lemak Cili Padi (beef and bamboo shoots in chili and coconut gravy)\nKale dan Labu Masak Lemak (kale with squash in coconut gravy)\nUdang Goreng Kunyit (fried turmeric prawns)\nAyam Goreng (fried chicken ala KFC)\nSpaghetti with Meatballs\nTossed Salad\, Garlic Bread\, and Pizza \nMaghrib\, Isyak\, and Teraweeh prayers will be held outdoors in the community center garden (weather permitting).  Please dress accordingly. \n  \n \nZakat Fitrah\nAs a service to our members\, MIFNA will begin accepting zakat fitrah of $15/person effective February 18\, 2026.  You may pay your zakat by any one of the following methods: \n\nOnline at the MIFNA website (mifna.com).  Click on the ZAKAT button on the Home page to pay your zakat.  Payment by Zelle or PayPal is accepted.  Please write ‘zakat fitrah’ in the memo\nIn person to MIFNA ’amil at any of the communal iftars.\nBy check. Write a check to MIFNA and mail it to ‘Hasnah Hamdan\, MIFNA Treasurer\, 5632 El Palomino Dr\, Jurupa Valley\, CA 92509’.\n\nTo ensure enough time for the zakat collected to be distributed to those eligible in our community\, we suggest that all zakat fitrah be paid by March 15\, 2026. \n  \nMIFNA Communications\nFebruary 17\, 2026
URL:https://mifna.com/event/ramadan-iftar-1-2/
END:VEVENT
BEGIN:VEVENT
DTSTART;VALUE=DATE:20260308
DTEND;VALUE=DATE:20260309
DTSTAMP:20260425T153500
CREATED:20260125T002704Z
LAST-MODIFIED:20260301T185602Z
UID:5173-1772928000-1773014399@mifna.com
SUMMARY:Bazaar Ramadan
DESCRIPTION:  \n2026 MIFNA Ramadan Bazaar \nWe are excited to present the many vendors offering an array of delicious snacks\, appetizers\, dishes\, and desserts for this year’s Ramadan Bazaar.\nThis event will take place on Sunday\, March 8th\, and pre-orders are now available. \nHow it Works\n1. Members will order and prepay for food directly with vendors. MIFNA is not responsible for any transactions between vendors and buyers.\n2. Please obtain and keep your receipt and confirmation number from vendors to ensure your orders are not missed.\n3. Food pickup will be between 3-5 pm.\n4. Pickup location will be at 220 Laurel Ave.\, Arcadia\, CA. \nList of Vendors\nPlease click on each vendor’s name to view the flyer. Vendors are listed in alphabetical order \n1. Authentic Bangladeshi Delights by Jony Shamser\n2. Bubur Lambuk Haji Aji by Fauzi & Rina\n3. Crunchy Munchies by Lalli\n4. E’s Kitchen by Elyna Mansor\n5. Kueh Kampong Cypress by Rose\n6. MIFNA Ramadan by Sharifah & Suraya\n7. Oh\, My Kuih! by Elly & Ida\n8. Rina’s Kuih Raya by Rina Salim\n9. Sauceology Culinary by Chef Ali & Chef Rayna\n10. Selera Singapore by Lin\n11. Special Iftar Menu by Anizah Hairudin\n12. Sze’s Kitchen by Sze Quak\n13. Warong D’LA by Fida Varela \nSee you at the bazaar! \nMIFNA Communications\nFebruary 29\, 2026
URL:https://mifna.com/event/bazaar-ramadan-3/
END:VEVENT
BEGIN:VEVENT
DTSTART;TZID=UTC:20260314T180000
DTEND;TZID=UTC:20260314T220000
DTSTAMP:20260425T153500
CREATED:20260125T002742Z
LAST-MODIFIED:20260307T210130Z
UID:5175-1773511200-1773525600@mifna.com
SUMMARY:MIFNA's Second Iftar (Buka Puasa): Saturday\, Mar 14\, 2026
DESCRIPTION:Saturday \n \n  \nMIFNA’s Second Iftar and Zakat Fitrah\n\nAssalaam mu’alay kum (peace be upon you)\,Please join us for MIFNA’s second and last communal iftar (majlis berbuka puasa) for Ramadan 2026. \nWhen: Saturday\, March 14\, 2026\n6:00 -10:00 pm\nWhere: Civic Center West\n17101 Armstrong Avenue\nIrvine\, CA 92614 \nPlease RSVP to Hasnah Hamdan at 949-230-1432 with the number of adults and kids (<12 yrs) in your party. The RSVP deadline is Thursday\, March 12\, 2026. \nProgram\n6:00 pm: Guests’ Arrival & Registration\n6:59 pm: Maghrib/Iftar/Buka puasa\n7:20 pm: Solat Maghrib\n7:45 pm: Dinner\n8:30 pm: Solat Isha’ followed by solat Teraweeh\n10:00 pm: Event ends\n10:30 pm: Vacate the hall \nMIFNA will be providing dates for iftar\, food\, and drinks for dinner. \nDinner Menu\nNasi Putih (white rice)\nKari Daging & Kentang (beef curry with potatoes)\nAyam Masak Kicap (chicken in soy sauce)\nUdang & Kacang Panjang Goreng Kunyit (fried turmeric prawns with string beans)\nStir-fry Mix Vegetables\nSambal Belacan with cucumber\nMee Goreng (fried yellow noodles)\nNasi Goreng (fried rice)\nPizza \nDrinks\nWater\nFruit punch\nBrewed coffee\nHot water\, Tea bags\, BOH Teh Tarik\nCanned soda and Yeo’s boxed drinks (assorted). \nGuests are welcome to bring appetizers\, desserts\, or fruits to share. \n\n\n  \n \n  \nZakat Fitrah\nThere is still time to pay your zakat fitrah. We want to thank all those who have paid their zakat fitrah to date.  It is $15/person and can be paid online at mifna.com or in person at the iftar to one of the following amil (zakat collector): \n\nFaiez Mazlan\nAmir Lechner\n\nPlease pay your zakat fitrah by Sunday\, March 15\, if possible\, so as to enable the zakat committee to distribute the collection to qualified recipients before Eid il Fitri on March 20\, 2026. \nThe zakat committee is now accepting nominations for zakat fitrah recipients.  Please provide the full name and contact information for each recipient nominated. \nSubmit your nominations using one of the following methods:\nOnline at: https://mifna.com/emergency-fund/\nIn the form\, please select ‘Other’ for ‘Assistance needed due to’ and type in ‘Zakat’. \nOr \nEmail Faiez Mazlan\, Chair\, 2025 Zakat Committee at: faiezmazlan@yahoo.com for nominations and questions. \nYou may also pay your zakat and sadaqah to your local masjid or online to other Muslim charities and organizations\, such as:\nIslamic Relief: https://irusa.org/ \nZakat Foundation: https://www.zakat.org/ramadan \nMIFNA Communications\nMarch 7\, 20266
URL:https://mifna.com/event/ramadan-iftar-2-2/
END:VEVENT
BEGIN:VEVENT
DTSTART;VALUE=DATE:20260320
DTEND;VALUE=DATE:20260321
DTSTAMP:20260425T153500
CREATED:20260125T002805Z
LAST-MODIFIED:20260222T223509Z
UID:5177-1773964800-1774051199@mifna.com
SUMMARY:Hari Raya ‘Aidil Fitri
DESCRIPTION:Location:\nSkyview Event Center\n5257 Wineville Ave\nCA 91752
URL:https://mifna.com/event/hari-raya-aidil-fitri-3/
END:VEVENT
BEGIN:VEVENT
DTSTART;VALUE=DATE:20260405
DTEND;VALUE=DATE:20260406
DTSTAMP:20260425T153500
CREATED:20260125T002840Z
LAST-MODIFIED:20260125T002840Z
UID:5179-1775347200-1775433599@mifna.com
SUMMARY:Hike #3
DESCRIPTION:Sunday
URL:https://mifna.com/event/hike-3-2/
END:VEVENT
BEGIN:VEVENT
DTSTART;VALUE=DATE:20260503
DTEND;VALUE=DATE:20260504
DTSTAMP:20260425T153500
CREATED:20260125T002922Z
LAST-MODIFIED:20260125T002922Z
UID:5181-1777766400-1777852799@mifna.com
SUMMARY:Hike #4
DESCRIPTION:Sunday
URL:https://mifna.com/event/hike-4-2/
END:VEVENT
BEGIN:VEVENT
DTSTART;VALUE=DATE:20260527
DTEND;VALUE=DATE:20260528
DTSTAMP:20260425T153500
CREATED:20260125T002952Z
LAST-MODIFIED:20260125T002952Z
UID:5183-1779840000-1779926399@mifna.com
SUMMARY:Eid ul Adha
DESCRIPTION:Wednesday
URL:https://mifna.com/event/eid-ul-adha/
END:VEVENT
BEGIN:VEVENT
DTSTART;VALUE=DATE:20260531
DTEND;VALUE=DATE:20260601
DTSTAMP:20260425T153500
CREATED:20260125T003023Z
LAST-MODIFIED:20260125T003023Z
UID:5185-1780185600-1780271999@mifna.com
SUMMARY:Eid ul Adha lunch
DESCRIPTION:Sunday
URL:https://mifna.com/event/eid-ul-adha-lunch/
END:VEVENT
BEGIN:VEVENT
DTSTART;VALUE=DATE:20260607
DTEND;VALUE=DATE:20260608
DTSTAMP:20260425T153500
CREATED:20260125T003105Z
LAST-MODIFIED:20260125T003105Z
UID:5187-1780790400-1780876799@mifna.com
SUMMARY:Hike #5
DESCRIPTION:Sunday
URL:https://mifna.com/event/hike-5-2/
END:VEVENT
BEGIN:VEVENT
DTSTART;VALUE=DATE:20260712
DTEND;VALUE=DATE:20260713
DTSTAMP:20260425T153500
CREATED:20260125T003135Z
LAST-MODIFIED:20260125T003135Z
UID:5189-1783814400-1783900799@mifna.com
SUMMARY:Hike #6
DESCRIPTION:Sunday
URL:https://mifna.com/event/hike-6-2/
END:VEVENT
BEGIN:VEVENT
DTSTART;VALUE=DATE:20260802
DTEND;VALUE=DATE:20260803
DTSTAMP:20260425T153500
CREATED:20260125T003220Z
LAST-MODIFIED:20260125T003220Z
UID:5191-1785628800-1785715199@mifna.com
SUMMARY:Hike #7
DESCRIPTION:Sunday
URL:https://mifna.com/event/hike-7-2/
END:VEVENT
BEGIN:VEVENT
DTSTART;VALUE=DATE:20260920
DTEND;VALUE=DATE:20260921
DTSTAMP:20260425T153500
CREATED:20260125T003253Z
LAST-MODIFIED:20260125T003253Z
UID:5193-1789862400-1789948799@mifna.com
SUMMARY:Hike #8
DESCRIPTION:Sunday
URL:https://mifna.com/event/hike-8-2/
END:VEVENT
BEGIN:VEVENT
DTSTART;VALUE=DATE:20261004
DTEND;VALUE=DATE:20261005
DTSTAMP:20260425T153500
CREATED:20260125T003321Z
LAST-MODIFIED:20260125T003321Z
UID:5195-1791072000-1791158399@mifna.com
SUMMARY:Hike #9
DESCRIPTION:Sunday
URL:https://mifna.com/event/hike-9-2/
END:VEVENT
BEGIN:VEVENT
DTSTART;VALUE=DATE:20261018
DTEND;VALUE=DATE:20261019
DTSTAMP:20260425T153500
CREATED:20260125T003354Z
LAST-MODIFIED:20260125T003354Z
UID:5197-1792281600-1792367999@mifna.com
SUMMARY:Family Day
DESCRIPTION:Sunday
URL:https://mifna.com/event/family-day-2/
END:VEVENT
BEGIN:VEVENT
DTSTART;VALUE=DATE:20261129
DTEND;VALUE=DATE:20261130
DTSTAMP:20260425T153500
CREATED:20260125T003420Z
LAST-MODIFIED:20260125T003420Z
UID:5199-1795910400-1795996799@mifna.com
SUMMARY:Hike #10
DESCRIPTION:Sunday
URL:https://mifna.com/event/hike-10/
END:VEVENT
BEGIN:VEVENT
DTSTART;VALUE=DATE:20261205
DTEND;VALUE=DATE:20261206
DTSTAMP:20260425T153500
CREATED:20260125T003441Z
LAST-MODIFIED:20260125T003441Z
UID:5201-1796428800-1796515199@mifna.com
SUMMARY:AGM
DESCRIPTION:Saturday
URL:https://mifna.com/event/agm/
END:VEVENT
BEGIN:VEVENT
DTSTART;VALUE=DATE:20261213
DTEND;VALUE=DATE:20261214
DTSTAMP:20260425T153500
CREATED:20260125T003503Z
LAST-MODIFIED:20260125T003503Z
UID:5203-1797120000-1797206399@mifna.com
SUMMARY:Hike #11
DESCRIPTION:Sunday
URL:https://mifna.com/event/hike-11-2/
END:VEVENT
END:VCALENDAR