BEGIN:VCALENDAR
VERSION:2.0
PRODID:-//MIFNA - ECPv6.15.20//NONSGML v1.0//EN
CALSCALE:GREGORIAN
METHOD:PUBLISH
X-WR-CALNAME:MIFNA
X-ORIGINAL-URL:https://mifna.com
X-WR-CALDESC:Events for MIFNA
REFRESH-INTERVAL;VALUE=DURATION:PT1H
X-Robots-Tag:noindex
X-PUBLISHED-TTL:PT1H
BEGIN:VTIMEZONE
TZID:UTC
BEGIN:STANDARD
TZOFFSETFROM:+0000
TZOFFSETTO:+0000
TZNAME:UTC
DTSTART:20210101T000000
END:STANDARD
END:VTIMEZONE
BEGIN:VEVENT
DTSTART;VALUE=DATE:20220416
DTEND;VALUE=DATE:20220417
DTSTAMP:20260425T114158
CREATED:20220126T193939Z
LAST-MODIFIED:20220411T190635Z
UID:3342-1650067200-1650153599@mifna.com
SUMMARY:2nd MIFNA Iftar (Berbuka Puasa)
DESCRIPTION:[vc_row][vc_column width=”1/4″][/vc_column][vc_column width=”1/2″][vc_single_image image=”3763″ img_size=”full” alignment=”center”][/vc_column][vc_column width=”1/4″][/vc_column][/vc_row][vc_row][vc_column css=”.vc_custom_1649703988507{padding-top: 30px !important;}”][vc_column_text]Dear MIFNA member\,\nMIFNA is organizing its second communal iftar/buka puasa on Saturday\, April 16\, from 7-11pm\, at the El Dorado Park West Senior Center. Please RSVP to Salina Farkas at 310-701-1258 by April 14\, so we can estimate the food and drinks. You may also RSVP by clicking on the RSVP button in this message. You are welcome to bring appetizers and/or desserts. Our main dishes will include white rice\, chicken curry\, beef in black soy sauce\, chili fried fish and mix vegetables. There will also be fried noodles and pizza\, in sya Allah. We look forward to seeing you and your family at the event. \nMIFNA Communications\nApril 06\, 2022[/vc_column_text][/vc_column][/vc_row]
URL:https://mifna.com/event/2nd-mifna-iftar-berbuka-puasa/
CATEGORIES:MIFNA Event
END:VEVENT
BEGIN:VEVENT
DTSTART;VALUE=DATE:20220409
DTEND;VALUE=DATE:20220410
DTSTAMP:20260425T114158
CREATED:20220126T193450Z
LAST-MODIFIED:20220405T140513Z
UID:3340-1649462400-1649548799@mifna.com
SUMMARY:Bazaar Ramadan #1
DESCRIPTION:[vc_row][vc_column][vc_column_text] \nSaturday\, April 09\, 2022\nNorthwood Community Park Picnic Shelter\n4531 Bryan Ave\, Irvine\, CA 92620 \nPick Up Time: 3:00pm – 4:00pm\nPlease order directly with the vendors. \n[/vc_column_text][vc_empty_space][/vc_column][/vc_row][vc_row][vc_column width=”1/3″][vc_column_text] \nAnizah’s Kitchen\nKuih Lopes (3 pieces) $6.00\nKuih Lapis (3 pieces) $6.00\nSerimuka (3 pieces) $6.00 \nPlace your order by Thursday 4/7/22\nContact: Anizah Hairuddin\n562-547-9954 or email anizahh@yahoo.com \nZelle – anizahh@yahoo.com \n[/vc_column_text][/vc_column][vc_column width=”1/3″][vc_column_text]E’s Kitchen\nNasi Tomato & Ayam Masak Merah – $12.00\nCurry Laksa – $12.00\nwith chicken\, shrimp\, tofu puffs\, egg & vegetables. Please specify yellow noodles or rice noodles or both.\nCucur Udang – $7.00 \nContact: Elyna Mansor\n260-249-0575 \nZelle – elynamansor@yahoo.com\nVenmo – @Elyna-M (please select option “Payment to Friends”)[/vc_column_text][/vc_column][vc_column width=”1/3″][vc_column_text] \nBubur Lambuk Haji Aji\nLightly spiced rice porridge – $5.00 \nContact: Rina Faisal\nText Order to 909-319-5759\nVenmo: @Mutia-Faisal\nZelle: rinafaisal@hotmail.com \nALL PROCEEDS WILL GO TO MIFNA[/vc_column_text][/vc_column][/vc_row][vc_row][vc_column][vc_empty_space][/vc_column][/vc_row][vc_row][vc_column width=”1/3″][vc_column_text]Makan Buddy \n* Nasi Lemak Bungkus $12.00\n* Satay Ayam (Chicken) $12.00 for 4 pieces\n* Mee Goreng $12.00\n* Murtabak Daging (beef) $8.00 for 2 pieces\n* Kangkung Belacan $12.00 for 16oz\n* Otak-Otak Muar $12.00 for 6 pieces\n* Bubur Pulut Hitam $5.00 for 8oz \nOrder at: makanbuddyofficial.com/menu[/vc_column_text][/vc_column][vc_column width=”1/3″][vc_column_text]Perwakilan LA’s Kitchen \n* Nasi Lemak Original $12.00\n* Nasi Lemak Special $17.00\n* Teh Ais $5.00\n* Teh Tarik $3.00 \nOrder at: https://forms.gle/CmsUQzgAEeq4S3Be6[/vc_column_text][/vc_column][vc_column width=”1/3″][vc_column_text]Selera Ku Los Angeles \n* Tahu Isi (3 pieces) $8.50\nStuffed crispy tofu filled with savory chicken\, shrimp & mix vegetables \n* Siomay $11.80\nSteamed chicken dumpling tofu with potatoes\, vegetables & homemade peanut sauce and pickles \n*Pepes Ikan $12.80\nEarthly spicy fish with Balinese jungle paste wrapped in banana leaves & grilled. Served with rice. \n*Nasi goreng Tek Tek – $12.00\nFried rice with chicken\, vegetables\, eggs\, crackers & pickles. \nVenmo / Zelle with phone #310-905-2364\nVenmo: @Pheren\nZelle: Superen Soepadhi[/vc_column_text][/vc_column][/vc_row]
URL:https://mifna.com/event/bazaar-ramadan-1/
CATEGORIES:MIFNA Event
END:VEVENT
BEGIN:VEVENT
DTSTART;VALUE=DATE:20220402
DTEND;VALUE=DATE:20220403
DTSTAMP:20260425T114158
CREATED:20220126T193338Z
LAST-MODIFIED:20220317T032234Z
UID:3338-1648857600-1648943999@mifna.com
SUMMARY:1st MIFNA Iftar (Berbuka Puasa)
DESCRIPTION:MIFNA will observe the first of Ramadan and the beginning of fasting on Saturday\, April 2\, 2022. \nOur first communal iftar (majlis berbuka puasa) for this Ramadan will be hosted by Puan Anil Adenan\, Consul General of Malaysia\, Los Angeles.  Details below: \n\n\n\nDate\nSaturday\, April 2\, 7-11 pm\n\n\nPlace\nResidence of the Consul General of Malaysia\, LA\n\n\n\n15930 Esquilime Dr\n\n\n\nChino Hills\, CA 91709\n\n\n\nProgram: (times listed are approximate) \n\n\n\n6:45 pm\nGuests arrival\n\n\n7.15 pm\nBreaking of the fast (buka puasa)\n\n\n7:30 pm\nMaghrib prayer\n\n\n8:00 pm\nDinner (provided by the host)\n\n\n9:00 pm\nIsha’ prayer\n\n\n9:15 pm\nTaraweeh prayer\n\n\n10:00 pm\nClean up\n\n\n\nWe are requiring RSVP for this iftar due to space and parking constraints. \nPlease RSVP by texting Salina Farkas\, chair of the iftar committee\, at 310-701-1258 by March 25\, 2022.  Please provide: \n\nYour name (example: Mat Kilau)\n# adults (example: Adults 2)\n# kids (example: Kids 2)\n\nThe gate code will be provided when Salina confirms your attendance.
URL:https://mifna.com/event/1st-mifna-iftar-berbuka-puasa/
CATEGORIES:MIFNA Event
END:VEVENT
END:VCALENDAR