BEGIN:VCALENDAR
VERSION:2.0
PRODID:-//MIFNA - ECPv6.15.20//NONSGML v1.0//EN
CALSCALE:GREGORIAN
METHOD:PUBLISH
X-WR-CALNAME:MIFNA
X-ORIGINAL-URL:https://mifna.com
X-WR-CALDESC:Events for MIFNA
REFRESH-INTERVAL;VALUE=DURATION:PT1H
X-Robots-Tag:noindex
X-PUBLISHED-TTL:PT1H
BEGIN:VTIMEZONE
TZID:UTC
BEGIN:STANDARD
TZOFFSETFROM:+0000
TZOFFSETTO:+0000
TZNAME:UTC
DTSTART:20220101T000000
END:STANDARD
END:VTIMEZONE
BEGIN:VEVENT
DTSTART;TZID=UTC:20230611T090000
DTEND;TZID=UTC:20230611T120000
DTSTAMP:20260425T200740
CREATED:20230208T173257Z
LAST-MODIFIED:20230531T043951Z
UID:4035-1686474000-1686484800@mifna.com
SUMMARY:MIFNA Hiking/Nature Walk Day
DESCRIPTION:Chair: Sam Hashim \nCheck details here https://mifna.com/mifnas-3rd-hiking-nature-walk-day-sun-june-11th-2023/
URL:https://mifna.com/event/mifna-hiking-nature-walk-day-3/
CATEGORIES:MIFNA Event
END:VEVENT
END:VCALENDAR