BEGIN:VCALENDAR
VERSION:2.0
PRODID:-//MIFNA - ECPv6.15.20//NONSGML v1.0//EN
CALSCALE:GREGORIAN
METHOD:PUBLISH
X-WR-CALNAME:MIFNA
X-ORIGINAL-URL:https://mifna.com
X-WR-CALDESC:Events for MIFNA
REFRESH-INTERVAL;VALUE=DURATION:PT1H
X-Robots-Tag:noindex
X-PUBLISHED-TTL:PT1H
BEGIN:VTIMEZONE
TZID:UTC
BEGIN:STANDARD
TZOFFSETFROM:+0000
TZOFFSETTO:+0000
TZNAME:UTC
DTSTART:20220101T000000
END:STANDARD
END:VTIMEZONE
BEGIN:VEVENT
DTSTART;TZID=UTC:20230910T090000
DTEND;TZID=UTC:20230910T120000
DTSTAMP:20260425T162936
CREATED:20230208T173711Z
LAST-MODIFIED:20230831T201729Z
UID:4044-1694336400-1694347200@mifna.com
SUMMARY:MIFNA Hiking/Nature Walk Day
DESCRIPTION:  \nAdditional details:  https://mifna.com/mifnas-6th-hike-nature-walk-sun-sept-10th-2023/
URL:https://mifna.com/event/mifna-hiking-nature-walk-day-5/
CATEGORIES:MIFNA Event
END:VEVENT
END:VCALENDAR