BEGIN:VCALENDAR
VERSION:2.0
PRODID:-//MIFNA - ECPv6.15.20//NONSGML v1.0//EN
CALSCALE:GREGORIAN
METHOD:PUBLISH
X-WR-CALNAME:MIFNA
X-ORIGINAL-URL:https://mifna.com
X-WR-CALDESC:Events for MIFNA
REFRESH-INTERVAL;VALUE=DURATION:PT1H
X-Robots-Tag:noindex
X-PUBLISHED-TTL:PT1H
BEGIN:VTIMEZONE
TZID:UTC
BEGIN:STANDARD
TZOFFSETFROM:+0000
TZOFFSETTO:+0000
TZNAME:UTC
DTSTART:20220101T000000
END:STANDARD
END:VTIMEZONE
BEGIN:VEVENT
DTSTART;TZID=UTC:20231022T120000
DTEND;TZID=UTC:20231022T170000
DTSTAMP:20260425T151923
CREATED:20230208T173857Z
LAST-MODIFIED:20230906T193605Z
UID:4047-1697976000-1697994000@mifna.com
SUMMARY:Family Day & MIFNA Got Talent
DESCRIPTION:  \nChair: Anizah Hairudin \nClick here for details: https://mifna.com/family-day-sun-oct-22-2023/  \n 
URL:https://mifna.com/event/family-day-mifna-got-talent/
LOCATION:El Dorado Park West Senior Center\, 2800 N. Studebaker\, Long Beach\, CA\, 90815\, United States
CATEGORIES:MIFNA Event
END:VEVENT
END:VCALENDAR