BEGIN:VCALENDAR
VERSION:2.0
PRODID:-//MIFNA - ECPv6.15.20//NONSGML v1.0//EN
CALSCALE:GREGORIAN
METHOD:PUBLISH
X-ORIGINAL-URL:https://mifna.com
X-WR-CALDESC:Events for MIFNA
REFRESH-INTERVAL;VALUE=DURATION:PT1H
X-Robots-Tag:noindex
X-PUBLISHED-TTL:PT1H
BEGIN:VTIMEZONE
TZID:UTC
BEGIN:STANDARD
TZOFFSETFROM:+0000
TZOFFSETTO:+0000
TZNAME:UTC
DTSTART:20220101T000000
END:STANDARD
END:VTIMEZONE
BEGIN:VEVENT
DTSTART;TZID=UTC:20231202T143000
DTEND;TZID=UTC:20231202T163000
DTSTAMP:20260425T122757
CREATED:20230208T173958Z
LAST-MODIFIED:20231117T014330Z
UID:4049-1701527400-1701534600@mifna.com
SUMMARY:AGM and Election Results
DESCRIPTION:Chair : Lin Adzhar \n  \n \n  \n\nSalam voting* members\, Notice is hereby given that the 17th Annual General Meeting (AGM) of the Malaysian Islamic Foundation of North America (MIFNA) will be held on:       DATE: Saturday\, December 2\, 2023TIME: 2:30 pmPLACE: 8000 Glider Ave.\, Los Angeles\, CA 90045 \nAGENDA: \n\nTo approve the minutes of the 16th AGM held on Saturday\, December 3\, 2022.\nPresident’s Report for 2023.\nTo approve the 2022 Financial Report.\n\nAppointment of auditors for Financial Report.\n\n\nElection of 2024-2025 MIFNA Board of Directors.\n\nReport by Election Chair.\nResults of Election.\n\n\nOther matters.\nAdjournment of meeting.\n\nClick here for the meeting minutes of our 16th AGM. Lastly\, please join us for high tea after the AGM.  Tentative menu is Laksa Johor\, Nasi Lemak\, Mee Hoon Goreng and kuih muih.Thank you\,Rina FaisalSECRETARY 2022-2023 \n\n* Voting members are Family members (member and spouse)\, Individual members\, and Student members.MIFNA CommunicationsNovember 14\, 2023
URL:https://mifna.com/event/agm-and-election-results/
LOCATION:Private Address\, 8000 Glider Avenue\, Los Angeles\, CA\, 90045\, United States
CATEGORIES:MIFNA Event
END:VEVENT
END:VCALENDAR