BEGIN:VCALENDAR
VERSION:2.0
PRODID:-//MIFNA - ECPv6.15.20//NONSGML v1.0//EN
CALSCALE:GREGORIAN
METHOD:PUBLISH
X-ORIGINAL-URL:https://mifna.com
X-WR-CALDESC:Events for MIFNA
REFRESH-INTERVAL;VALUE=DURATION:PT1H
X-Robots-Tag:noindex
X-PUBLISHED-TTL:PT1H
BEGIN:VTIMEZONE
TZID:UTC
BEGIN:STANDARD
TZOFFSETFROM:+0000
TZOFFSETTO:+0000
TZNAME:UTC
DTSTART:20230101T000000
END:STANDARD
END:VTIMEZONE
BEGIN:VEVENT
DTSTART;TZID=UTC:20240804T090000
DTEND;TZID=UTC:20240804T120000
DTSTAMP:20260425T030542
CREATED:20240124T005552Z
LAST-MODIFIED:20240124T005552Z
UID:4397-1722762000-1722772800@mifna.com
SUMMARY:August 2024 Hike
DESCRIPTION:Date:8/4/2024 Teepee Trail \nAddress:\nUSFS Angeles Station 11 – Angeles Crest\n5898 CA-22\, La Cañada Flintridge\, CA 91011 \nDistant: 5.4 Miles Moderate
URL:https://mifna.com/event/august-2024-hike/
LOCATION:Teepee Trail\, USFS Angeles Station 11 - Angeles Crest 5898 CA-22\, La Cañada Flintridge\, CA\, 91011\, United States
CATEGORIES:MIFNA Event
END:VEVENT
END:VCALENDAR