BEGIN:VCALENDAR
VERSION:2.0
PRODID:-//MIFNA - ECPv6.15.20//NONSGML v1.0//EN
CALSCALE:GREGORIAN
METHOD:PUBLISH
X-WR-CALNAME:MIFNA
X-ORIGINAL-URL:https://mifna.com
X-WR-CALDESC:Events for MIFNA
REFRESH-INTERVAL;VALUE=DURATION:PT1H
X-Robots-Tag:noindex
X-PUBLISHED-TTL:PT1H
BEGIN:VTIMEZONE
TZID:UTC
BEGIN:STANDARD
TZOFFSETFROM:+0000
TZOFFSETTO:+0000
TZNAME:UTC
DTSTART:20230101T000000
END:STANDARD
END:VTIMEZONE
BEGIN:VEVENT
DTSTART;TZID=UTC:20241103T090000
DTEND;TZID=UTC:20241103T120000
DTSTAMP:20260424T234018
CREATED:20240124T010048Z
LAST-MODIFIED:20241101T021303Z
UID:4406-1730624400-1730635200@mifna.com
SUMMARY:November 2024 Hike
DESCRIPTION:Date: 11/3/2024 \nBrightwater Trail \nParking at this address: \n3842 Warner Avenue\, Huntington Beach\, CA 92649 \nDistant: 4.4 miles easy loop. \n  \n \n  \nSalaam members and friends\, \nOur seventh MIFNA hike/nature walk for 2024 will be on Sun\, Nov 3rd\, 2024. The hike/nature walk will be at the Brightwater Trail\, 3842 Warner Ave.\, Huntington Beach\, CA 92649. \nIt is an easy 4.4-mile loop trail with an elevation gain of only 127 ft. We plan to start the hike/nature walk at 9 a.m. sharp. Parking will be at the address given above . \nAn RSVP is greatly appreciated so we won’t leave anybody behind in case some of you were to arrive late. To RSVP or get more information\, please text Sam Hashim at 310-433-8969. Bottled water and light snacks will be provided. \nWe hope to see you there. \nMIFNA Communications\nOct 31st\, 2024
URL:https://mifna.com/event/november-2024-hike/
CATEGORIES:MIFNA Event
END:VEVENT
END:VCALENDAR