BEGIN:VCALENDAR
VERSION:2.0
PRODID:-//MIFNA - ECPv6.15.20//NONSGML v1.0//EN
CALSCALE:GREGORIAN
METHOD:PUBLISH
X-ORIGINAL-URL:https://mifna.com
X-WR-CALDESC:Events for MIFNA
REFRESH-INTERVAL;VALUE=DURATION:PT1H
X-Robots-Tag:noindex
X-PUBLISHED-TTL:PT1H
BEGIN:VTIMEZONE
TZID:UTC
BEGIN:STANDARD
TZOFFSETFROM:+0000
TZOFFSETTO:+0000
TZNAME:UTC
DTSTART:20240101T000000
END:STANDARD
END:VTIMEZONE
BEGIN:VEVENT
DTSTART;VALUE=DATE:20250518
DTEND;VALUE=DATE:20250519
DTSTAMP:20260424T170059
CREATED:20250110T025327Z
LAST-MODIFIED:20250511T193645Z
UID:4785-1747526400-1747612799@mifna.com
SUMMARY:MIFNA's May Hike/Nature Walk 2025: Sun\, May 18th\, 2025
DESCRIPTION:  \nSalaam members and friends\, \nOur MIFNA hike/nature walk for May 2025 will be this Sun\, May 18th\, 2025\, at the Santiago Creek Trail\, Santiago Oaks Regional Park\, 2145 Windes Dr.\, Orange\, CA 92869. \nIt is an easy-to-moderate trail that is under 2 hours long. We plan to start the hike/nature walk at 9 a.m. sharp. Parking will be at the address above\, with a $5 parking fee per entrance. \nAn RSVP is greatly appreciated so we won’t leave anybody behind in case some of you were to arrive late. To RSVP or get more information\, please text Sam Hashim at 310-433-8969. Bottled water and light snacks will be provided. \nWe hope to see you there. \nMIFNA Communications\nMay 12\, 2025
URL:https://mifna.com/event/hike-4/
END:VEVENT
END:VCALENDAR